BEGIN:VCALENDAR
VERSION:2.0
PRODID:-//IDIS. Igualdad, Diversidad, Inclusión y Salud - ECPv5.5.0.2//NONSGML v1.0//EN
CALSCALE:GREGORIAN
METHOD:PUBLISH
X-WR-CALNAME:IDIS. Igualdad, Diversidad, Inclusión y Salud
X-ORIGINAL-URL:https://idis.conselldeivissa.es/es/
X-WR-CALDESC:Eventos para IDIS. Igualdad, Diversidad, Inclusión y Salud
BEGIN:VTIMEZONE
TZID:Europe/Madrid
BEGIN:DAYLIGHT
TZOFFSETFROM:+0100
TZOFFSETTO:+0200
TZNAME:CEST
DTSTART:20230326T010000
END:DAYLIGHT
BEGIN:STANDARD
TZOFFSETFROM:+0200
TZOFFSETTO:+0100
TZNAME:CET
DTSTART:20231029T010000
END:STANDARD
END:VTIMEZONE
BEGIN:VEVENT
DTSTART;VALUE=DATE:20230318
DTEND;VALUE=DATE:20230319
DTSTAMP:20260420T225338
CREATED:20220713T065917Z
LAST-MODIFIED:20220907T090113Z
UID:5992-1679097600-1679183999@idis.conselldeivissa.es
SUMMARY:Día Mundial del Síndrome de Edwards o Trisomía 18
DESCRIPTION:[vc_row type=»in_container» full_screen_row_position=»middle» column_margin=»default» column_direction=»default» column_direction_tablet=»default» column_direction_phone=»default» scene_position=»center» text_color=»dark» text_align=»left» row_border_radius=»none» row_border_radius_applies=»bg» overlay_strength=»0.3″ gradient_direction=»left_to_right» shape_divider_position=»bottom» bg_image_animation=»none»][vc_column column_padding=»padding-2-percent» column_padding_tablet=»inherit» column_padding_phone=»inherit» column_padding_position=»top» column_element_spacing=»default» background_color_opacity=»1″ background_hover_color_opacity=»1″ column_shadow=»none» column_border_radius=»none» column_link_target=»_self» gradient_direction=»left_to_right» overlay_strength=»0.3″ width=»1/1″ tablet_width_inherit=»default» tablet_text_alignment=»default» phone_text_alignment=»default» bg_image_animation=»none» border_type=»simple» column_border_width=»none» column_border_style=»solid»][vc_column_text css_animation=»fadeIn» css=».vc_custom_1662541199293{padding-bottom: 20px !important;}»]El Día Mundial del Síndrome de Edwards o Trisomía 18 se celebra el 18 de marzo de cada año con el objetivo de dar a conocer un padecimiento genético que se produce por una alteración de los cromosomas y donde es importante el diagnóstico oportuno para mejorar la calidad de vida de las personas que lo padecen. \nSe trata de un desorden genético en que los niños al nacer presentan un cromosoma extra en el par 18. Esto trae como consecuencias algunas alteraciones físicas. Los seres humanos en condiciones normales tienen 46 cromosomas\, que reciben tanto de la madre como del padre\, pero cuando la carga genética es superior a esa\, se presenta esta condición.[/vc_column_text]   Más información sobre el Día Mundial del Síndrome de Edwards o Trisomía 18 [/vc_column][/vc_row]
URL:https://idis.conselldeivissa.es/es/agenda/dia-mundial-del-sindrome-de-edwards-o-trisomia-18/
CATEGORIES:Días Internacionales Inclusión
END:VEVENT
END:VCALENDAR