BEGIN:VCALENDAR
VERSION:2.0
PRODID:-//IDIS. Igualdad, Diversidad, Inclusión y Salud - ECPv5.5.0.2//NONSGML v1.0//EN
CALSCALE:GREGORIAN
METHOD:PUBLISH
X-WR-CALNAME:IDIS. Igualdad, Diversidad, Inclusión y Salud
X-ORIGINAL-URL:https://idis.conselldeivissa.es/es/
X-WR-CALDESC:Eventos para IDIS. Igualdad, Diversidad, Inclusión y Salud
BEGIN:VTIMEZONE
TZID:Europe/Madrid
BEGIN:DAYLIGHT
TZOFFSETFROM:+0100
TZOFFSETTO:+0200
TZNAME:CEST
DTSTART:20230326T010000
END:DAYLIGHT
BEGIN:STANDARD
TZOFFSETFROM:+0200
TZOFFSETTO:+0100
TZNAME:CET
DTSTART:20231029T010000
END:STANDARD
END:VTIMEZONE
BEGIN:VEVENT
DTSTART;VALUE=DATE:20230104
DTEND;VALUE=DATE:20230105
DTSTAMP:20260419T203926
CREATED:20220713T070018Z
LAST-MODIFIED:20220906T080641Z
UID:5896-1672790400-1672876799@idis.conselldeivissa.es
SUMMARY:Día Mundial del Braille
DESCRIPTION:[vc_row type=»in_container» full_screen_row_position=»middle» column_margin=»default» column_direction=»default» column_direction_tablet=»default» column_direction_phone=»default» scene_position=»center» text_color=»dark» text_align=»left» row_border_radius=»none» row_border_radius_applies=»bg» overlay_strength=»0.3″ gradient_direction=»left_to_right» shape_divider_position=»bottom» bg_image_animation=»none»][vc_column column_padding=»padding-2-percent» column_padding_tablet=»inherit» column_padding_phone=»inherit» column_padding_position=»top» column_element_spacing=»default» background_color_opacity=»1″ background_hover_color_opacity=»1″ column_shadow=»none» column_border_radius=»none» column_link_target=»_self» gradient_direction=»left_to_right» overlay_strength=»0.3″ width=»1/1″ tablet_width_inherit=»default» tablet_text_alignment=»default» phone_text_alignment=»default» bg_image_animation=»none» border_type=»simple» column_border_width=»none» column_border_style=»solid»][vc_column_text css_animation=»fadeIn» css=».vc_custom_1662451540462{padding-bottom: 20px !important;}»]El 4 de enero se celebra el Día Mundial del Braille con el fin de crear mayor conciencia sobre la importancia del braille como medio de comunicación para la plena realización de los derechos humanos para las personas ciegas y con deficiencia visual. \nSegún la Organización Mundial de la Salud hay unos 36 millones de personas con ceguera en el mundo\, y 216 millones sufren discapacidad visual moderada o grave. Estas personas tienen más posibilidades de vivir en la pobreza\, disfrutar de peor salud y tener más dificultades que otras para acceder a la educación y al empleo. \n[/vc_column_text]   Más información sobre el Día Mundial del Braille [/vc_column][/vc_row]
URL:https://idis.conselldeivissa.es/es/agenda/dia-mundial-del-braille/
CATEGORIES:Días Internacionales Inclusión
END:VEVENT
END:VCALENDAR