BEGIN:VCALENDAR
VERSION:2.0
PRODID:-//IDIS. Igualdad, Diversidad, Inclusión y Salud - ECPv5.5.0.2//NONSGML v1.0//EN
CALSCALE:GREGORIAN
METHOD:PUBLISH
X-WR-CALNAME:IDIS. Igualdad, Diversidad, Inclusión y Salud
X-ORIGINAL-URL:https://idis.conselldeivissa.es/es/
X-WR-CALDESC:Eventos para IDIS. Igualdad, Diversidad, Inclusión y Salud
BEGIN:VTIMEZONE
TZID:Europe/Madrid
BEGIN:DAYLIGHT
TZOFFSETFROM:+0100
TZOFFSETTO:+0200
TZNAME:CEST
DTSTART:20230326T010000
END:DAYLIGHT
BEGIN:STANDARD
TZOFFSETFROM:+0200
TZOFFSETTO:+0100
TZNAME:CET
DTSTART:20231029T010000
END:STANDARD
END:VTIMEZONE
BEGIN:VEVENT
DTSTART;VALUE=DATE:20230206
DTEND;VALUE=DATE:20230207
DTSTAMP:20260419T204458
CREATED:20220512T063203Z
LAST-MODIFIED:20220905T100344Z
UID:5018-1675641600-1675727999@idis.conselldeivissa.es
SUMMARY:Día Mundial de Tolerancia Cero con la Mutilación Genital Femenina
DESCRIPTION:[vc_row type=»in_container» full_screen_row_position=»middle» column_margin=»default» column_direction=»default» column_direction_tablet=»default» column_direction_phone=»default» scene_position=»center» text_color=»dark» text_align=»left» row_border_radius=»none» row_border_radius_applies=»bg» overlay_strength=»0.3″ gradient_direction=»left_to_right» shape_divider_position=»bottom» bg_image_animation=»none»][vc_column column_padding=»padding-2-percent» column_padding_tablet=»inherit» column_padding_phone=»inherit» column_padding_position=»top» column_element_spacing=»default» background_color_opacity=»1″ background_hover_color_opacity=»1″ column_shadow=»none» column_border_radius=»none» column_link_target=»_self» gradient_direction=»left_to_right» overlay_strength=»0.3″ width=»1/1″ tablet_width_inherit=»default» tablet_text_alignment=»default» phone_text_alignment=»default» bg_image_animation=»none» border_type=»simple» column_border_width=»none» column_border_style=»solid»][vc_column_text css=».vc_custom_1658223423678{padding-bottom: 20px !important;}»]El 6 de febrero se celebra el Día Internacional de Tolerancia Cero con la Mutilación Genital Femenina\, una práctica que se suele ejecutar en niñas en algún momento de sus vidas entre la infancia y la adolescencia en determinados países. Es una práctica tradicional de la que se cree que potencia la belleza\, el honor\, las posibilidades de matrimonio\, el estatus social y la castidad de una chica. \nSin embargo\, causa grandes dolores y puede llevar a hemorragias prolongadas\, infecciones\, infertilidad e incluso la muerte. Acabar con esta práctica es crucial para garantizar el derecho a la salud\, la supervivencia y la igualdad de millones de niñas.[/vc_column_text]   Más información sobre el Día Mundial de Tolerancia Cero con la Mutilación Genital Femenina [/vc_column][/vc_row]
URL:https://idis.conselldeivissa.es/es/agenda/dia-mundial-de-tolerancia-cero-con-la-mutilacion-genital-femenina/
CATEGORIES:Días Internacionales Igualdad,Días Internacionales Salud
END:VEVENT
END:VCALENDAR