BEGIN:VCALENDAR
VERSION:2.0
PRODID:-//IDIS. Igualdad, Diversidad, Inclusión y Salud - ECPv5.5.0.2//NONSGML v1.0//EN
CALSCALE:GREGORIAN
METHOD:PUBLISH
X-WR-CALNAME:IDIS. Igualdad, Diversidad, Inclusión y Salud
X-ORIGINAL-URL:https://idis.conselldeivissa.es/es/
X-WR-CALDESC:Eventos para IDIS. Igualdad, Diversidad, Inclusión y Salud
BEGIN:VTIMEZONE
TZID:Europe/Madrid
BEGIN:DAYLIGHT
TZOFFSETFROM:+0100
TZOFFSETTO:+0200
TZNAME:CEST
DTSTART:20230326T010000
END:DAYLIGHT
BEGIN:STANDARD
TZOFFSETFROM:+0200
TZOFFSETTO:+0100
TZNAME:CET
DTSTART:20231029T010000
END:STANDARD
END:VTIMEZONE
BEGIN:VEVENT
DTSTART;VALUE=DATE:20230206
DTEND;VALUE=DATE:20230207
DTSTAMP:20260419T222118
CREATED:20220708T091306Z
LAST-MODIFIED:20220708T091306Z
UID:5754-1675641600-1675727999@idis.conselldeivissa.es
SUMMARY:Día Mundial de Tolerancia Cero a la Mutilación Genital Femenina
DESCRIPTION:El 6 de febrero se celebra el Día Internacional de Tolerancia Cero con la Mutilación Genital Femenina\, una práctica que se suele ejecutar en niñas en algún momento de sus vidas entre la infancia y la adolescencia en determinados países. \nSe engloban en estas prácticas todos los procedimientos consistentes en alterar o dañar los órganos genitales femeninos por razones que nada tienen que ver con decisiones médicas. Es una violación de los derechos humanos de las mujeres y niñas. Viola sus derechos a la salud\, la seguridad y la integridad física\, el derecho a no ser sometidas a torturas y tratos crueles\, inhumanos o degradantes\, y el derecho a la vida en los casos en que el procedimiento acaba produciendo la muerte. La mutilación genital femenina es causa de hemorragias graves y otros problemas de salud tales como quistes\, infecciones e infertilidad\, así como complicaciones en el parto y un mayor riesgo de muerte de recién nacidos.
URL:https://idis.conselldeivissa.es/es/agenda/dia-mundial-de-tolerancia-cero-a-la-mutilacion-genital-femenina/
CATEGORIES:Días Internacionales Salud
END:VEVENT
END:VCALENDAR