BEGIN:VCALENDAR
VERSION:2.0
PRODID:-//IDIS. Igualdad, Diversidad, Inclusión y Salud - ECPv5.5.0.2//NONSGML v1.0//EN
CALSCALE:GREGORIAN
METHOD:PUBLISH
X-WR-CALNAME:IDIS. Igualdad, Diversidad, Inclusión y Salud
X-ORIGINAL-URL:https://idis.conselldeivissa.es/es/
X-WR-CALDESC:Eventos para IDIS. Igualdad, Diversidad, Inclusión y Salud
BEGIN:VTIMEZONE
TZID:Europe/Madrid
BEGIN:DAYLIGHT
TZOFFSETFROM:+0100
TZOFFSETTO:+0200
TZNAME:CEST
DTSTART:20230326T010000
END:DAYLIGHT
BEGIN:STANDARD
TZOFFSETFROM:+0200
TZOFFSETTO:+0100
TZNAME:CET
DTSTART:20231029T010000
END:STANDARD
END:VTIMEZONE
BEGIN:VEVENT
DTSTART;VALUE=DATE:20230304
DTEND;VALUE=DATE:20230305
DTSTAMP:20260420T195428
CREATED:20220708T091306Z
LAST-MODIFIED:20220905T115932Z
UID:5780-1677888000-1677974399@idis.conselldeivissa.es
SUMMARY:Día Mundial contra la Obesidad
DESCRIPTION:[vc_row type=»in_container» full_screen_row_position=»middle» column_margin=»default» column_direction=»default» column_direction_tablet=»default» column_direction_phone=»default» scene_position=»center» text_color=»dark» text_align=»left» row_border_radius=»none» row_border_radius_applies=»bg» overlay_strength=»0.3″ gradient_direction=»left_to_right» shape_divider_position=»bottom» bg_image_animation=»none»][vc_column column_padding=»padding-2-percent» column_padding_tablet=»inherit» column_padding_phone=»inherit» column_padding_position=»top» column_element_spacing=»default» background_color_opacity=»1″ background_hover_color_opacity=»1″ column_shadow=»none» column_border_radius=»none» column_link_target=»_self» gradient_direction=»left_to_right» overlay_strength=»0.3″ width=»1/1″ tablet_width_inherit=»default» tablet_text_alignment=»default» phone_text_alignment=»default» bg_image_animation=»none» border_type=»simple» column_border_width=»none» column_border_style=»solid»][vc_column_text css_animation=»fadeIn» css=».vc_custom_1662379046220{padding-bottom: 20px !important;}»]Cada 4 de marzo se celebra el Día Mundial contra la Obesidad. Esta fecha busca concienciar a las personas sobre el terrible daño que conlleva para el organismo una dieta alta en grasa y azúcares\, dieta que a decir verdad\, es una de las más populares y propagadas por todo el mundo. El Día Mundial de la Obesidad está convocado por la Federación Mundial de la Obesidad\, y sus miembros mundiales. \nSegún datos de la misma Organización Mundial de la Salud (OMS)\, la obesidad ha alcanzado proporciones epidémicas mundiales. Es más\, se estima que desde 1975 esta enfermedad se ha triplicado\, logrando que en 2016\, 1.900 millones de adultos la padeciesen así como 340 millones de niños y adolescentes.[/vc_column_text]   Más información sobre el Día Mundial contra la Obesidad [/vc_column][/vc_row]
URL:https://idis.conselldeivissa.es/es/agenda/dia-mundial-de-la-obesidad/
CATEGORIES:Días Internacionales Salud
END:VEVENT
END:VCALENDAR