BEGIN:VCALENDAR
VERSION:2.0
PRODID:-//IDIS. Igualdad, Diversidad, Inclusión y Salud - ECPv5.5.0.2//NONSGML v1.0//EN
CALSCALE:GREGORIAN
METHOD:PUBLISH
X-WR-CALNAME:IDIS. Igualdad, Diversidad, Inclusión y Salud
X-ORIGINAL-URL:https://idis.conselldeivissa.es/es/
X-WR-CALDESC:Eventos para IDIS. Igualdad, Diversidad, Inclusión y Salud
BEGIN:VTIMEZONE
TZID:Europe/Madrid
BEGIN:DAYLIGHT
TZOFFSETFROM:+0100
TZOFFSETTO:+0200
TZNAME:CEST
DTSTART:20230326T010000
END:DAYLIGHT
BEGIN:STANDARD
TZOFFSETFROM:+0200
TZOFFSETTO:+0100
TZNAME:CET
DTSTART:20231029T010000
END:STANDARD
END:VTIMEZONE
BEGIN:VEVENT
DTSTART;VALUE=DATE:20230220
DTEND;VALUE=DATE:20230221
DTSTAMP:20260420T101653
CREATED:20220713T070018Z
LAST-MODIFIED:20220905T112231Z
UID:5962-1676851200-1676937599@idis.conselldeivissa.es
SUMMARY:Día Mundial de la Justicia Social
DESCRIPTION:[vc_row type=»in_container» full_screen_row_position=»middle» column_margin=»default» column_direction=»default» column_direction_tablet=»default» column_direction_phone=»default» scene_position=»center» text_color=»dark» text_align=»left» row_border_radius=»none» row_border_radius_applies=»bg» overlay_strength=»0.3″ gradient_direction=»left_to_right» shape_divider_position=»bottom» bg_image_animation=»none»][vc_column column_padding=»padding-2-percent» column_padding_tablet=»inherit» column_padding_phone=»inherit» column_padding_position=»top» column_element_spacing=»default» background_color_opacity=»1″ background_hover_color_opacity=»1″ column_shadow=»none» column_border_radius=»none» column_link_target=»_self» gradient_direction=»left_to_right» overlay_strength=»0.3″ width=»1/1″ tablet_width_inherit=»default» tablet_text_alignment=»default» phone_text_alignment=»default» bg_image_animation=»none» border_type=»simple» column_border_width=»none» column_border_style=»solid»][vc_column_text css_animation=»fadeIn» css=».vc_custom_1662376880892{padding-bottom: 20px !important;}»]El 20 de febrero se celebra el Día Mundial de la Justicia Social. En un mundo en el que la economía afecta directamente a los sistemas ecológicos de subsistencia\, hay que trabajar para que la justicia social sea una realidad. El crecimiento económico no tiene sentido si no redunda en el bienestar real y sostenible. \nEl objetivo de la celebración del Día Mundial de la Justicia Social es apoyar la labor de la comunidad internacional encaminada a erradicar la pobreza y promover el empleo pleno y el trabajo decente\, la igualdad entre los sexos y el acceso al bienestar social y la justicia social para todos.[/vc_column_text]   Más información sobre el Día Mundial de la Justicia Social [/vc_column][/vc_row]
URL:https://idis.conselldeivissa.es/es/agenda/dia-mundial-de-la-justicia-social/
CATEGORIES:Días Internacionales Inclusión
END:VEVENT
END:VCALENDAR