BEGIN:VCALENDAR
VERSION:2.0
PRODID:-//IDIS. Igualdad, Diversidad, Inclusión y Salud - ECPv5.5.0.2//NONSGML v1.0//EN
CALSCALE:GREGORIAN
METHOD:PUBLISH
X-WR-CALNAME:IDIS. Igualdad, Diversidad, Inclusión y Salud
X-ORIGINAL-URL:https://idis.conselldeivissa.es/es/
X-WR-CALDESC:Eventos para IDIS. Igualdad, Diversidad, Inclusión y Salud
BEGIN:VTIMEZONE
TZID:Europe/Madrid
BEGIN:DAYLIGHT
TZOFFSETFROM:+0100
TZOFFSETTO:+0200
TZNAME:CEST
DTSTART:20230326T010000
END:DAYLIGHT
BEGIN:STANDARD
TZOFFSETFROM:+0200
TZOFFSETTO:+0100
TZNAME:CET
DTSTART:20231029T010000
END:STANDARD
END:VTIMEZONE
BEGIN:VEVENT
DTSTART;VALUE=DATE:20230402
DTEND;VALUE=DATE:20230403
DTSTAMP:20260421T053641
CREATED:20220713T065732Z
LAST-MODIFIED:20220907T092330Z
UID:6008-1680393600-1680479999@idis.conselldeivissa.es
SUMMARY:Día Mundial de Concienciación sobre el Autismo
DESCRIPTION:[vc_row type=»in_container» full_screen_row_position=»middle» column_margin=»default» column_direction=»default» column_direction_tablet=»default» column_direction_phone=»default» scene_position=»center» text_color=»dark» text_align=»left» row_border_radius=»none» row_border_radius_applies=»bg» overlay_strength=»0.3″ gradient_direction=»left_to_right» shape_divider_position=»bottom» bg_image_animation=»none»][vc_column column_padding=»padding-2-percent» column_padding_tablet=»inherit» column_padding_phone=»inherit» column_padding_position=»top» column_element_spacing=»default» background_color_opacity=»1″ background_hover_color_opacity=»1″ column_shadow=»none» column_border_radius=»none» column_link_target=»_self» gradient_direction=»left_to_right» overlay_strength=»0.3″ width=»1/1″ tablet_width_inherit=»default» tablet_text_alignment=»default» phone_text_alignment=»default» bg_image_animation=»none» border_type=»simple» column_border_width=»none» column_border_style=»solid»][vc_column_text css_animation=»fadeIn» css=».vc_custom_1662542519473{padding-bottom: 20px !important;}»]El 2 de abril se celebra el Día Mundial de Concienciación sobre el Autismo decretado por la Asamblea General de las Naciones Unidas\, con el objetivo de contribuir a la mejora de la calidad de vida de la población que tiene esta condición. Además\, se quiere promover su inclusión como ciudadanos de pleno derecho en todos los ámbitos de la sociedad. \nEl autismo o trastorno del espectro autista (TEA) es un trastorno de origen neurobiológico que afecta al funcionamiento del cerebro y el sistema nervioso yse presenta en las primeras etapas de la infancia. Esta condición se caracteriza por afectar la interacción con el mundo exterior\, el contacto con las personas del entorno\, así como problemas de comunicación verbal. \n[/vc_column_text]   Más información sobre el Día Mundial de Concienciación sobre el Autismo [/vc_column][/vc_row]
URL:https://idis.conselldeivissa.es/es/agenda/dia-mundial-de-concienciacion-sobre-el-autismo/
CATEGORIES:Días Internacionales Inclusión
END:VEVENT
END:VCALENDAR