BEGIN:VCALENDAR
VERSION:2.0
PRODID:-//IDIS. Igualdad, Diversidad, Inclusión y Salud - ECPv5.5.0.2//NONSGML v1.0//EN
CALSCALE:GREGORIAN
METHOD:PUBLISH
X-WR-CALNAME:IDIS. Igualdad, Diversidad, Inclusión y Salud
X-ORIGINAL-URL:https://idis.conselldeivissa.es/es/
X-WR-CALDESC:Eventos para IDIS. Igualdad, Diversidad, Inclusión y Salud
BEGIN:VTIMEZONE
TZID:Europe/Madrid
BEGIN:DAYLIGHT
TZOFFSETFROM:+0100
TZOFFSETTO:+0200
TZNAME:CEST
DTSTART:20230326T010000
END:DAYLIGHT
BEGIN:STANDARD
TZOFFSETFROM:+0200
TZOFFSETTO:+0100
TZNAME:CET
DTSTART:20231029T010000
END:STANDARD
END:VTIMEZONE
BEGIN:VEVENT
DTSTART;VALUE=DATE:20230217
DTEND;VALUE=DATE:20230218
DTSTAMP:20260420T054047
CREATED:20220708T091306Z
LAST-MODIFIED:20220905T111610Z
UID:5768-1676592000-1676678399@idis.conselldeivissa.es
SUMMARY:Día Internacional del Juego Responsable
DESCRIPTION:[vc_row type=»in_container» full_screen_row_position=»middle» column_margin=»default» column_direction=»default» column_direction_tablet=»default» column_direction_phone=»default» scene_position=»center» text_color=»dark» text_align=»left» row_border_radius=»none» row_border_radius_applies=»bg» overlay_strength=»0.3″ gradient_direction=»left_to_right» shape_divider_position=»bottom» bg_image_animation=»none»][vc_column column_padding=»padding-2-percent» column_padding_tablet=»inherit» column_padding_phone=»inherit» column_padding_position=»top» column_element_spacing=»default» background_color_opacity=»1″ background_hover_color_opacity=»1″ column_shadow=»none» column_border_radius=»none» column_link_target=»_self» gradient_direction=»left_to_right» overlay_strength=»0.3″ width=»1/1″ tablet_width_inherit=»default» tablet_text_alignment=»default» phone_text_alignment=»default» bg_image_animation=»none» border_type=»simple» column_border_width=»none» column_border_style=»solid»][vc_column_text css_animation=»fadeIn» css=».vc_custom_1662376470025{padding-bottom: 20px !important;}»]Cada 17 de febrero se celebra el Día Internacional del Juego Responsable\, con la finalidad de concienciar en la población mundial acerca de los efectos negativos de las adicciones a los juegos de azar y en línea. \nPor otra parte\, se pretende promover los aspectos éticos de los juegos de azar\, así como las formas saludables de jugar\, mediante el fortalecimiento de hábitos y estilos de vida. Asimismo\, dar a conocer las graves consecuencias de los juegos de azar\, el mundo de los casinos\, las apuestas y el juego online. El juego debe ser una diversión y no una adicción. \n[/vc_column_text]   Más información sobre el Día Internacional del Juego Responsable [/vc_column][/vc_row]
URL:https://idis.conselldeivissa.es/es/agenda/dia-internacional-del-juego-responsable/
CATEGORIES:Días Internacionales Salud
END:VEVENT
END:VCALENDAR