BEGIN:VCALENDAR
VERSION:2.0
PRODID:-//IDIS. Igualdad, Diversidad, Inclusión y Salud - ECPv5.5.0.2//NONSGML v1.0//EN
CALSCALE:GREGORIAN
METHOD:PUBLISH
X-WR-CALNAME:IDIS. Igualdad, Diversidad, Inclusión y Salud
X-ORIGINAL-URL:https://idis.conselldeivissa.es/es/
X-WR-CALDESC:Eventos para IDIS. Igualdad, Diversidad, Inclusión y Salud
BEGIN:VTIMEZONE
TZID:Europe/Madrid
BEGIN:DAYLIGHT
TZOFFSETFROM:+0100
TZOFFSETTO:+0200
TZNAME:CEST
DTSTART:20230326T010000
END:DAYLIGHT
BEGIN:STANDARD
TZOFFSETFROM:+0200
TZOFFSETTO:+0100
TZNAME:CET
DTSTART:20231029T010000
END:STANDARD
END:VTIMEZONE
BEGIN:VEVENT
DTSTART;VALUE=DATE:20230214
DTEND;VALUE=DATE:20230215
DTSTAMP:20260420T053939
CREATED:20220905T103250Z
LAST-MODIFIED:20220905T103250Z
UID:5758-1676332800-1676419199@idis.conselldeivissa.es
SUMMARY:Día Internacional del Internet Seguro (Safer Internet Day)
DESCRIPTION:[vc_row type=»in_container» full_screen_row_position=»middle» column_margin=»default» column_direction=»default» column_direction_tablet=»default» column_direction_phone=»default» scene_position=»center» text_color=»dark» text_align=»left» row_border_radius=»none» row_border_radius_applies=»bg» overlay_strength=»0.3″ gradient_direction=»left_to_right» shape_divider_position=»bottom» bg_image_animation=»none»][vc_column column_padding=»padding-2-percent» column_padding_tablet=»inherit» column_padding_phone=»inherit» column_padding_position=»top» column_element_spacing=»default» background_color_opacity=»1″ background_hover_color_opacity=»1″ column_shadow=»none» column_border_radius=»none» column_link_target=»_self» gradient_direction=»left_to_right» overlay_strength=»0.3″ width=»1/1″ tablet_width_inherit=»default» tablet_text_alignment=»default» phone_text_alignment=»default» bg_image_animation=»none» border_type=»simple» column_border_width=»none» column_border_style=»solid»][vc_column_text css_animation=»fadeIn» css=».vc_custom_1662373891972{padding-bottom: 20px !important;}»]El Día Internacional del Internet Seguro (Safer Internet Day)\, es un evento de gran envergadura\, que fue propuesto por la red INSAFE\, con el apoyo de la Unión Europea. Se celebra el segundo día de la segunda semana del segundo mes del año\, o lo que es lo mismo\, el segundo martes de febrero. \nEs a partir del año 2004\, cuando se toma en cuenta esta iniciativa\, que ha movilizado a millones de personas en todo el mundo para promover y debatir sobre el correcto uso de Internet\, sobre todo para los niños y jóvenes\, ya que es la población más vulnerable.[/vc_column_text]   Más información sobre el Día Internacional del Internet Seguro (Safer Internet Day) [/vc_column][/vc_row]
URL:https://idis.conselldeivissa.es/es/agenda/dia-internacional-del-internet-seguro-safer-internet-day/
CATEGORIES:Días Internacionales Salud
END:VEVENT
END:VCALENDAR