BEGIN:VCALENDAR
VERSION:2.0
PRODID:-//IDIS. Igualdad, Diversidad, Inclusión y Salud - ECPv5.5.0.2//NONSGML v1.0//EN
CALSCALE:GREGORIAN
METHOD:PUBLISH
X-WR-CALNAME:IDIS. Igualdad, Diversidad, Inclusión y Salud
X-ORIGINAL-URL:https://idis.conselldeivissa.es/es/
X-WR-CALDESC:Eventos para IDIS. Igualdad, Diversidad, Inclusión y Salud
BEGIN:VTIMEZONE
TZID:Europe/Madrid
BEGIN:DAYLIGHT
TZOFFSETFROM:+0100
TZOFFSETTO:+0200
TZNAME:CEST
DTSTART:20230326T010000
END:DAYLIGHT
BEGIN:STANDARD
TZOFFSETFROM:+0200
TZOFFSETTO:+0100
TZNAME:CET
DTSTART:20231029T010000
END:STANDARD
END:VTIMEZONE
BEGIN:VEVENT
DTSTART;VALUE=DATE:20230330
DTEND;VALUE=DATE:20230331
DTSTAMP:20260421T014546
CREATED:20220706T054143Z
LAST-MODIFIED:20220719T092306Z
UID:5679-1680134400-1680220799@idis.conselldeivissa.es
SUMMARY:Día Internacional de las Trabajadoras del Hogar
DESCRIPTION:[vc_row type=»in_container» full_screen_row_position=»middle» column_margin=»default» column_direction=»default» column_direction_tablet=»default» column_direction_phone=»default» scene_position=»center» text_color=»dark» text_align=»left» row_border_radius=»none» row_border_radius_applies=»bg» overlay_strength=»0.3″ gradient_direction=»left_to_right» shape_divider_position=»bottom» bg_image_animation=»none»][vc_column column_padding=»padding-2-percent» column_padding_tablet=»inherit» column_padding_phone=»inherit» column_padding_position=»top» column_element_spacing=»default» background_color_opacity=»1″ background_hover_color_opacity=»1″ column_shadow=»none» column_border_radius=»none» column_link_target=»_self» gradient_direction=»left_to_right» overlay_strength=»0.3″ width=»1/1″ tablet_width_inherit=»default» tablet_text_alignment=»default» phone_text_alignment=»default» bg_image_animation=»none» border_type=»simple» column_border_width=»none» column_border_style=»solid»][vc_column_text css=».vc_custom_1658226115752{padding-bottom: 20px !important;}»]El día 30 de marzo se celebra el Día Internacional de las Trabajadoras del Hogar con el propósito de colocar en la agenda política las situaciones de discriminación sistemática\, de precariedad\, infravaloración e invisibilidad sufridas en este sector. Se trata una fecha conmemorativa y de reivindicación de derechos laborales del sector\, compuesto en su mayoría por mujeres. El trabajo doméstico es una fuente importante de empleo remunerado para las mujeres\, y las trabajadoras del hogar representan una de las principales fuerzas de trabajo femenina asalariada en todo el mundo. \nSin embargo\, son a menudo excluidas de la protección social y laboral al encuadrarse la actividad en un mercado de trabajo informal\, favoreciendo a su infravaloración y su alta feminización. La equiparación profesional con el resto de personas trabajadoras por cuenta ajena y respeto hacia un sector en que\, con frecuencia\, se vulneran derechos\, se trabaja en condiciones de precariedad y de indefensión son reivindicaciones necesarias para avanzar en el logro de la igualdad en el empleo de las mujeres.[/vc_column_text]   Más información sobre el Día Internacional de las Trabajadoras del Hogar  [/vc_column][/vc_row]
URL:https://idis.conselldeivissa.es/es/agenda/dia-internacional-de-las-trabajadoras-del-hogar/
CATEGORIES:Días Internacionales Igualdad
END:VEVENT
END:VCALENDAR