BEGIN:VCALENDAR
VERSION:2.0
PRODID:-//IDIS. Igualdad, Diversidad, Inclusión y Salud - ECPv5.5.0.2//NONSGML v1.0//EN
CALSCALE:GREGORIAN
METHOD:PUBLISH
X-WR-CALNAME:IDIS. Igualdad, Diversidad, Inclusión y Salud
X-ORIGINAL-URL:https://idis.conselldeivissa.es/es/
X-WR-CALDESC:Eventos para IDIS. Igualdad, Diversidad, Inclusión y Salud
BEGIN:VTIMEZONE
TZID:Europe/Madrid
BEGIN:DAYLIGHT
TZOFFSETFROM:+0100
TZOFFSETTO:+0200
TZNAME:CEST
DTSTART:20220327T010000
END:DAYLIGHT
BEGIN:STANDARD
TZOFFSETFROM:+0200
TZOFFSETTO:+0100
TZNAME:CET
DTSTART:20221030T010000
END:STANDARD
END:VTIMEZONE
BEGIN:VEVENT
DTSTART;VALUE=DATE:20221105
DTEND;VALUE=DATE:20221106
DTSTAMP:20260420T070616
CREATED:20220713T065826Z
LAST-MODIFIED:20220908T102527Z
UID:6141-1667606400-1667692799@idis.conselldeivissa.es
SUMMARY:Día Internacional de las Personas Cuidadoras
DESCRIPTION:[vc_row type=»in_container» full_screen_row_position=»middle» column_margin=»default» column_direction=»default» column_direction_tablet=»default» column_direction_phone=»default» scene_position=»center» text_color=»dark» text_align=»left» row_border_radius=»none» row_border_radius_applies=»bg» overlay_strength=»0.3″ gradient_direction=»left_to_right» shape_divider_position=»bottom» bg_image_animation=»none»][vc_column column_padding=»padding-2-percent» column_padding_tablet=»inherit» column_padding_phone=»inherit» column_padding_position=»top» column_element_spacing=»default» background_color_opacity=»1″ background_hover_color_opacity=»1″ column_shadow=»none» column_border_radius=»none» column_link_target=»_self» gradient_direction=»left_to_right» overlay_strength=»0.3″ width=»1/1″ tablet_width_inherit=»default» tablet_text_alignment=»default» phone_text_alignment=»default» bg_image_animation=»none» border_type=»simple» column_border_width=»none» column_border_style=»solid»][vc_column_text]El 5 de noviembre se rinde un merecido homenaje a aquellas personas que se dedican al cuidado de personas mayores o en situación de dependencia. Se celebra el Día Internacional de las Personas Cuidadoras. Esta efeméride se creó en el año 2014\, para reconocer la labor ejercida por cuidadores profesionales y familiares que dan lo mejor de sí mismas en la atención y cuidados a personas para el mejoramiento de su calidad de vida\, bien sea por enfermedad\, discapacidad o por edades avanzadas.[/vc_column_text]   Más información sobre el Día Internacional de las Personas Cuidadoras [/vc_column][/vc_row]
URL:https://idis.conselldeivissa.es/es/agenda/dia-internacional-de-las-personas-cuidadoras/
CATEGORIES:Días Internacionales Inclusión
END:VEVENT
END:VCALENDAR