BEGIN:VCALENDAR
VERSION:2.0
PRODID:-//IDIS. Igualdad, Diversidad, Inclusión y Salud - ECPv5.5.0.2//NONSGML v1.0//EN
CALSCALE:GREGORIAN
METHOD:PUBLISH
X-WR-CALNAME:IDIS. Igualdad, Diversidad, Inclusión y Salud
X-ORIGINAL-URL:https://idis.conselldeivissa.es/es/
X-WR-CALDESC:Eventos para IDIS. Igualdad, Diversidad, Inclusión y Salud
BEGIN:VTIMEZONE
TZID:Europe/Madrid
BEGIN:DAYLIGHT
TZOFFSETFROM:+0100
TZOFFSETTO:+0200
TZNAME:CEST
DTSTART:20220327T010000
END:DAYLIGHT
BEGIN:STANDARD
TZOFFSETFROM:+0200
TZOFFSETTO:+0100
TZNAME:CET
DTSTART:20221030T010000
END:STANDARD
END:VTIMEZONE
BEGIN:VEVENT
DTSTART;VALUE=DATE:20221015
DTEND;VALUE=DATE:20221016
DTSTAMP:20260420T155353
CREATED:20220512T060833Z
LAST-MODIFIED:20220719T085000Z
UID:4992-1665792000-1665878399@idis.conselldeivissa.es
SUMMARY:Día Internacional de la Mujer Rural
DESCRIPTION:[vc_row type=»in_container» full_screen_row_position=»middle» column_margin=»default» column_direction=»default» column_direction_tablet=»default» column_direction_phone=»default» scene_position=»center» text_color=»dark» text_align=»left» row_border_radius=»none» row_border_radius_applies=»bg» overlay_strength=»0.3″ gradient_direction=»left_to_right» shape_divider_position=»bottom» bg_image_animation=»none»][vc_column column_padding=»padding-2-percent» column_padding_tablet=»inherit» column_padding_phone=»inherit» column_padding_position=»top» column_element_spacing=»default» background_color_opacity=»1″ background_hover_color_opacity=»1″ column_shadow=»none» column_border_radius=»none» column_link_target=»_self» gradient_direction=»left_to_right» overlay_strength=»0.3″ width=»1/1″ tablet_width_inherit=»default» tablet_text_alignment=»default» phone_text_alignment=»default» bg_image_animation=»none» border_type=»simple» column_border_width=»none» column_border_style=»solid»][vc_column_text css=».vc_custom_1658222022043{padding-bottom: 20px !important;}»]Desde hace años venimos celebrando el Día Mundial de la Mujer Rural el día 15 de octubre\, fecha que adquiere especial relevancia tras la declaración oficial de esta celebración por la Asamblea General de las Naciones Unidas el pasado noviembre de 2008. \nEl objetivo principal de conmemorar este día es visibilizar la importancia que merece la aportación económica\, social y cultural que desarrollan las mujeres en áreas rurales de todo el mundo y su decisiva contribución a la seguridad alimentaria. Precisamente\, se eligió como fecha conmemorativa el 15 de octubre porque un día antes se celebra el Día Mundial de la Alimentación. Y en la procuración de la alimentación han tenido mucho que decir las mujeres rurales históricamente.[/vc_column_text]   Más información sobre el Día Internacional de la Mujer Rural  [/vc_column][/vc_row]
URL:https://idis.conselldeivissa.es/es/agenda/dia-internacional-de-la-mujer-rural/
CATEGORIES:Días Internacionales Igualdad
END:VEVENT
END:VCALENDAR