BEGIN:VCALENDAR
VERSION:2.0
PRODID:-//IDIS. Igualdad, Diversidad, Inclusión y Salud - ECPv5.5.0.2//NONSGML v1.0//EN
CALSCALE:GREGORIAN
METHOD:PUBLISH
X-WR-CALNAME:IDIS. Igualdad, Diversidad, Inclusión y Salud
X-ORIGINAL-URL:https://idis.conselldeivissa.es/es/
X-WR-CALDESC:Eventos para IDIS. Igualdad, Diversidad, Inclusión y Salud
BEGIN:VTIMEZONE
TZID:Europe/Madrid
BEGIN:DAYLIGHT
TZOFFSETFROM:+0100
TZOFFSETTO:+0200
TZNAME:CEST
DTSTART:20220327T010000
END:DAYLIGHT
BEGIN:STANDARD
TZOFFSETFROM:+0200
TZOFFSETTO:+0100
TZNAME:CET
DTSTART:20221030T010000
END:STANDARD
END:VTIMEZONE
BEGIN:VEVENT
DTSTART;VALUE=DATE:20221125
DTEND;VALUE=DATE:20221126
DTSTAMP:20260420T024505
CREATED:20220511T124519Z
LAST-MODIFIED:20220906T074432Z
UID:4989-1669334400-1669420799@idis.conselldeivissa.es
SUMMARY:Día Internacional para la Eliminación de la Violencia contra la Mujer
DESCRIPTION:[vc_row type=»in_container» full_screen_row_position=»middle» column_margin=»default» column_direction=»default» column_direction_tablet=»default» column_direction_phone=»default» scene_position=»center» text_color=»dark» text_align=»left» row_border_radius=»none» row_border_radius_applies=»bg» overlay_strength=»0.3″ gradient_direction=»left_to_right» shape_divider_position=»bottom» bg_image_animation=»none»][vc_column column_padding=»padding-2-percent» column_padding_tablet=»inherit» column_padding_phone=»inherit» column_padding_position=»top» column_element_spacing=»default» background_color_opacity=»1″ background_hover_color_opacity=»1″ column_shadow=»none» column_border_radius=»none» column_link_target=»_self» gradient_direction=»left_to_right» overlay_strength=»0.3″ width=»1/1″ tablet_width_inherit=»default» tablet_text_alignment=»default» phone_text_alignment=»default» bg_image_animation=»none» border_type=»simple» column_border_width=»none» column_border_style=»solid»][vc_column_text css=».vc_custom_1658222998243{padding-bottom: 20px !important;}»]El 25 de noviembre se celebra el Día Internacional para la Eliminación de la Violencia contra la Mujer\, con la finalidad de visibilizar la violencia contra las mujeres y niñas a nivel mundial. Se pretende fomentar la ejecución de políticas por parte de las naciones del mundo para la erradicación de la violencia de género\, así como brindar apoyo y generar conciencia sobre la estigmatización y la vergüenza que sufren las víctimas.[/vc_column_text]   Más información sobre el Día Internacional para la Eliminación de la Violencia contra la Mujer  [/vc_column][/vc_row]
URL:https://idis.conselldeivissa.es/es/agenda/dia-internacional-de-la-lucha-contra-la-violencia-hacia-la-mujer/
CATEGORIES:Días Internacionales Igualdad,Días Internacionales Salud
END:VEVENT
END:VCALENDAR