BEGIN:VCALENDAR
VERSION:2.0
PRODID:-//IDIS. Igualdad, Diversidad, Inclusión y Salud - ECPv5.5.0.2//NONSGML v1.0//EN
CALSCALE:GREGORIAN
METHOD:PUBLISH
X-WR-CALNAME:IDIS. Igualdad, Diversidad, Inclusión y Salud
X-ORIGINAL-URL:https://idis.conselldeivissa.es/es/
X-WR-CALDESC:Eventos para IDIS. Igualdad, Diversidad, Inclusión y Salud
BEGIN:VTIMEZONE
TZID:Europe/Madrid
BEGIN:DAYLIGHT
TZOFFSETFROM:+0100
TZOFFSETTO:+0200
TZNAME:CEST
DTSTART:20230326T010000
END:DAYLIGHT
BEGIN:STANDARD
TZOFFSETFROM:+0200
TZOFFSETTO:+0100
TZNAME:CET
DTSTART:20231029T010000
END:STANDARD
END:VTIMEZONE
BEGIN:VEVENT
DTSTART;VALUE=DATE:20230306
DTEND;VALUE=DATE:20230307
DTSTAMP:20260420T200604
CREATED:20220713T065917Z
LAST-MODIFIED:20220907T083420Z
UID:5983-1678060800-1678147199@idis.conselldeivissa.es
SUMMARY:Día Europeo de la Logopedia
DESCRIPTION:[vc_row type=»in_container» full_screen_row_position=»middle» column_margin=»default» column_direction=»default» column_direction_tablet=»default» column_direction_phone=»default» scene_position=»center» text_color=»dark» text_align=»left» row_border_radius=»none» row_border_radius_applies=»bg» overlay_strength=»0.3″ gradient_direction=»left_to_right» shape_divider_position=»bottom» bg_image_animation=»none»][vc_column column_padding=»padding-2-percent» column_padding_tablet=»inherit» column_padding_phone=»inherit» column_padding_position=»top» column_element_spacing=»default» background_color_opacity=»1″ background_hover_color_opacity=»1″ column_shadow=»none» column_border_radius=»none» column_link_target=»_self» gradient_direction=»left_to_right» overlay_strength=»0.3″ width=»1/1″ tablet_width_inherit=»default» tablet_text_alignment=»default» phone_text_alignment=»default» bg_image_animation=»none» border_type=»simple» column_border_width=»none» column_border_style=»solid»][vc_column_text css_animation=»fadeIn» css=».vc_custom_1662539593145{padding-bottom: 20px !important;}»]El Comité Permanente de Logopedas de la Unión Europea creó en el año 2004 el Día Europeo de la Logopedia\, cuya finalidad fundamental es la de concienciar a la población europea sobre los trastornos del lenguaje y de la comunicación existentes\, así como los efectos sobre la salud\, los tratamientos aplicados y los derechos de los pacientes. \nAsimismo\, la conmemoración de este día pretende divulgar la importancia y relevancia de la profesión logopédica en toda Europa\, la cual se dedica a la evaluación\, diagnóstico y tratamiento de problemas relacionados con la comunicación\, el lenguaje\, la voz\, la deglución y la audición.[/vc_column_text]   Más información sobre el Día Europeo de la Logopedia [/vc_column][/vc_row]
URL:https://idis.conselldeivissa.es/es/agenda/dia-europeo-de-la-logopedia/
CATEGORIES:Días Internacionales Inclusión
END:VEVENT
END:VCALENDAR