BEGIN:VCALENDAR
VERSION:2.0
PRODID:-//IDIS. Igualdad, Diversidad, Inclusión y Salud - ECPv5.5.0.2//NONSGML v1.0//EN
CALSCALE:GREGORIAN
METHOD:PUBLISH
X-WR-CALNAME:IDIS. Igualdad, Diversidad, Inclusión y Salud
X-ORIGINAL-URL:https://idis.conselldeivissa.es/es/
X-WR-CALDESC:Eventos para IDIS. Igualdad, Diversidad, Inclusión y Salud
BEGIN:VTIMEZONE
TZID:Europe/Madrid
BEGIN:DAYLIGHT
TZOFFSETFROM:+0100
TZOFFSETTO:+0200
TZNAME:CEST
DTSTART:20230326T010000
END:DAYLIGHT
BEGIN:STANDARD
TZOFFSETFROM:+0200
TZOFFSETTO:+0100
TZNAME:CET
DTSTART:20231029T010000
END:STANDARD
END:VTIMEZONE
BEGIN:VEVENT
DTSTART;VALUE=DATE:20230401
DTEND;VALUE=DATE:20230402
DTSTAMP:20260421T042929
CREATED:20220512T064103Z
LAST-MODIFIED:20220719T110953Z
UID:5558-1680307200-1680393599@idis.conselldeivissa.es
SUMMARY:Día del Libro LGTBI
DESCRIPTION:[vc_row type=»in_container» full_screen_row_position=»middle» column_margin=»default» column_direction=»default» column_direction_tablet=»default» column_direction_phone=»default» scene_position=»center» text_color=»dark» text_align=»left» row_border_radius=»none» row_border_radius_applies=»bg» overlay_strength=»0.3″ gradient_direction=»left_to_right» shape_divider_position=»bottom» bg_image_animation=»none»][vc_column column_padding=»padding-2-percent» column_padding_tablet=»inherit» column_padding_phone=»inherit» column_padding_position=»top» column_element_spacing=»default» background_color_opacity=»1″ background_hover_color_opacity=»1″ column_shadow=»none» column_border_radius=»none» column_link_target=»_self» gradient_direction=»left_to_right» overlay_strength=»0.3″ width=»1/1″ tablet_width_inherit=»default» tablet_text_alignment=»default» phone_text_alignment=»default» bg_image_animation=»none» border_type=»simple» column_border_width=»none» column_border_style=»solid»][vc_column_text css=».vc_custom_1658232520156{padding-bottom: 20px !important;}»]El Día del Libro LGTB+ es una iniciativa surgida en el año 2015\, promovida por la asociación madrileña Arcópoli. Arcópoli se dedica\, desde 2005\, a combatir por la igualdad de las personas LGTB+ y contra toda forma de discriminación y violencia LGTB-fóbica. Este particular día del libro tiene un objetivo primordial: continuar luchando por la plena inclusión del colectivo y normalizar un tipo de literatura muy necesaria. Se trata\, al final\, de una llamada de atención para que no olvidemos que no siempre tuvimos la posibilidad de leer nuestras historias con tanta normalidad.[/vc_column_text]   Más información sobre el Día del Libro LGTBI  [/vc_column][/vc_row]
URL:https://idis.conselldeivissa.es/es/agenda/dia-del-libro-lgtbi/
CATEGORIES:Días Internacionales Diversidad
END:VEVENT
END:VCALENDAR