BEGIN:VCALENDAR
VERSION:2.0
PRODID:-//IDIS. Igualdad, Diversidad, Inclusión y Salud - ECPv5.5.0.2//NONSGML v1.0//EN
CALSCALE:GREGORIAN
METHOD:PUBLISH
X-WR-CALNAME:IDIS. Igualdad, Diversidad, Inclusión y Salud
X-ORIGINAL-URL:https://idis.conselldeivissa.es/es/
X-WR-CALDESC:Eventos para IDIS. Igualdad, Diversidad, Inclusión y Salud
BEGIN:VTIMEZONE
TZID:Europe/Madrid
BEGIN:DAYLIGHT
TZOFFSETFROM:+0100
TZOFFSETTO:+0200
TZNAME:CEST
DTSTART:20220327T010000
END:DAYLIGHT
BEGIN:STANDARD
TZOFFSETFROM:+0200
TZOFFSETTO:+0100
TZNAME:CET
DTSTART:20221030T010000
END:STANDARD
END:VTIMEZONE
BEGIN:VEVENT
DTSTART;VALUE=DATE:20221210
DTEND;VALUE=DATE:20221211
DTSTAMP:20260419T214723
CREATED:20220713T065826Z
LAST-MODIFIED:20220906T075912Z
UID:6153-1670630400-1670716799@idis.conselldeivissa.es
SUMMARY:Día de los Derechos Humanos
DESCRIPTION:[vc_row type=»in_container» full_screen_row_position=»middle» column_margin=»default» column_direction=»default» column_direction_tablet=»default» column_direction_phone=»default» scene_position=»center» text_color=»dark» text_align=»left» row_border_radius=»none» row_border_radius_applies=»bg» overlay_strength=»0.3″ gradient_direction=»left_to_right» shape_divider_position=»bottom» bg_image_animation=»none»][vc_column column_padding=»padding-2-percent» column_padding_tablet=»inherit» column_padding_phone=»inherit» column_padding_position=»top» column_element_spacing=»default» background_color_opacity=»1″ background_hover_color_opacity=»1″ column_shadow=»none» column_border_radius=»none» column_link_target=»_self» gradient_direction=»left_to_right» overlay_strength=»0.3″ width=»1/1″ tablet_width_inherit=»default» tablet_text_alignment=»default» phone_text_alignment=»default» bg_image_animation=»none» border_type=»simple» column_border_width=»none» column_border_style=»solid»][vc_column_text css_animation=»fadeIn» css=».vc_custom_1662451094087{padding-bottom: 20px !important;}»]El 10 de diciembre se celebra el Día de los Derechos Humanos\, coincidiendo con el aniversario de la Declaración Universal de Derechos Humanos\, que se aprobó en 1948. Fue dos años después de la aprobación\, en 1950\, cuando la Asamblea General proclamó el 10 de diciembre como el Día de los Derechos Humanos. \nLos derechos humanos\, son derechos inalienables y que pertenecen a todos los seres humanos\, sin importar su raza\, sexo\, nacionalidad\, lengua\, religión\, origen étnico o cualquier otra condición. Actualmente existe una lista de derechos humanos creada por la Organización de las Naciones Unidas\, donde se defiende el derecho a la vida\, a la libertad\, a la educación\, al trabajo y muchos otros más\, que deben ser respetados sin que exista discriminación alguna. \n[/vc_column_text]   Más información sobre el Día de los Derechos Humanos [/vc_column][/vc_row]
URL:https://idis.conselldeivissa.es/es/agenda/dia-de-los-derechos-humanos/
CATEGORIES:Días Internacionales Diversidad,Días Internacionales Inclusión,Días Internacionales Salud
END:VEVENT
END:VCALENDAR