BEGIN:VCALENDAR
VERSION:2.0
PRODID:-//IDIS. Igualtat, Diversitat, Inclusió i Salut - ECPv5.5.0.2//NONSGML v1.0//EN
CALSCALE:GREGORIAN
METHOD:PUBLISH
X-WR-CALNAME:IDIS. Igualtat, Diversitat, Inclusió i Salut
X-ORIGINAL-URL:https://idis.conselldeivissa.es
X-WR-CALDESC:Events for IDIS. Igualtat, Diversitat, Inclusió i Salut
BEGIN:VTIMEZONE
TZID:Europe/Madrid
BEGIN:DAYLIGHT
TZOFFSETFROM:+0100
TZOFFSETTO:+0200
TZNAME:CEST
DTSTART:20220327T010000
END:DAYLIGHT
BEGIN:STANDARD
TZOFFSETFROM:+0200
TZOFFSETTO:+0100
TZNAME:CET
DTSTART:20221030T010000
END:STANDARD
END:VTIMEZONE
BEGIN:VEVENT
DTSTART;TZID=Europe/Madrid:20220627T190000
DTEND;TZID=Europe/Madrid:20220630T210000
DTSTAMP:20260421T104834
CREATED:20220623T114833Z
LAST-MODIFIED:20220704T072025Z
UID:5381-1656356400-1656622800@idis.conselldeivissa.es
SUMMARY:Xerrada col·loqui "Acompanyament psicosocial de la sexualitat"
DESCRIPTION:[vc_row type=”in_container” full_screen_row_position=”middle” column_margin=”default” column_direction=”default” column_direction_tablet=”default” column_direction_phone=”default” scene_position=”center” text_color=”dark” text_align=”left” row_border_radius=”none” row_border_radius_applies=”bg” overlay_strength=”0.3″ gradient_direction=”left_to_right” shape_divider_position=”bottom” bg_image_animation=”none”][vc_column column_padding=”no-extra-padding” column_padding_tablet=”inherit” column_padding_phone=”inherit” column_padding_position=”all” column_element_spacing=”default” background_color_opacity=”1″ background_hover_color_opacity=”1″ column_shadow=”none” column_border_radius=”none” column_link_target=”_self” gradient_direction=”left_to_right” overlay_strength=”0.3″ width=”1/1″ tablet_width_inherit=”default” tablet_text_alignment=”default” phone_text_alignment=”default” bg_image_animation=”none” border_type=”simple” column_border_width=”none” column_border_style=”solid”][vc_column_text css_animation=”fadeIn”]Segons l’Organització Mundial de la Salut (OMS)\, la salut és un estat de benestar físic\, mental i social complet\, i no només l’absència d’afeccions o malalties. Així\, s’entén que la salut va més enllà del que és corporal i inclou diferents dimensions lligades a l’experiència humana.  \nUna daquestes dimensions és la sexualitat. La sexualitat s’entén com la vivència subjectiva que tenim els éssers humans de ser éssers sexuats\, és a dir\, de tenir òrgan sexual. Així\, extrapolant la primera definició de salut\, la salut sexual es podria entendre com “un estat de benestar físic\, emocional\, mental i social relacionat amb la sexualitat; la qual no és l’absència de malaltia\, disfunció o incapacitat”.  \nÉs des d’aquesta conceptualització que a ALAS busquem treballar la sexualitat des de la visió positiva i integradora de com cada persona viu el fet de ser sexuada. Treballar mitjançant l’acompanyament psicosocial i la promoció del benestar i tenint en compte que la sexualitat es conforma de múltiples aspectes. Per exemple\, la identitat de gènere i l’orientació sexual\, però també la pràctica de l’eròtica i els hàbits saludables\, on transversalment influeix la diversitat en la vivència de cada persona.  \nLa conformitat amb la nostra corporalitat o amb la nostra expressió de gènere\, la direcció dels nostres desitjos o les pràctiques que decidim dur a terme són qüestions que poden resultar complexes d’abordar individualment i més en una societat on allò associat a la sexualitat directament es connota com pornogràfic\, exhibicionista\, viciós i obligat a amagar sota el terme del que és íntim.  \nAixí\, hi ha tantes sexualitats com persones i l’acompanyament psicosocial en l’exploració i l’aprenentatge és vital a l’hora de promocionar una vivència realista\, positiva i única de cada persona i\, per tant\, de cada sexualitat.  \nEs planteja una sessió on les persones participants exposaran temes claus lligats a l’acompanyament psicosocial de la sexualitat. Una sessió participativa en què les persones assistents podran plantejar qüestions\, dubtes i així formar part de i guiar la conversa.[/vc_column_text][/vc_column][/vc_row]
URL:https://idis.conselldeivissa.es/agenda/xerrada-colloqui-acompanyament-psicosocial-de-la-sexualitat/
LOCATION:Centro Cultural de Jesús\, Carrer del Faisà\, 7\, Nuestra Señora de Jesús\, 07819
CATEGORIES:Diversitat
ATTACH;FMTTYPE=image/jpeg:https://idis.conselldeivissa.es/wp-content/uploads/2022/06/Charla-de-sexualidad-IDIS.jpg
END:VEVENT
END:VCALENDAR