BEGIN:VCALENDAR
VERSION:2.0
PRODID:-//IDIS. Igualtat, Diversitat, Inclusió i Salut - ECPv5.5.0.2//NONSGML v1.0//EN
CALSCALE:GREGORIAN
METHOD:PUBLISH
X-WR-CALNAME:IDIS. Igualtat, Diversitat, Inclusió i Salut
X-ORIGINAL-URL:https://idis.conselldeivissa.es
X-WR-CALDESC:Events for IDIS. Igualtat, Diversitat, Inclusió i Salut
BEGIN:VTIMEZONE
TZID:Europe/Madrid
BEGIN:DAYLIGHT
TZOFFSETFROM:+0100
TZOFFSETTO:+0200
TZNAME:CEST
DTSTART:20230326T010000
END:DAYLIGHT
BEGIN:STANDARD
TZOFFSETFROM:+0200
TZOFFSETTO:+0100
TZNAME:CET
DTSTART:20231029T010000
END:STANDARD
END:VTIMEZONE
BEGIN:VEVENT
DTSTART;VALUE=DATE:20230104
DTEND;VALUE=DATE:20230105
DTSTAMP:20260419T220139
CREATED:20220708T080926Z
LAST-MODIFIED:20220906T080436Z
UID:5894-1672790400-1672876799@idis.conselldeivissa.es
SUMMARY:Dia Mundial del Braille
DESCRIPTION:[vc_row type=”in_container” full_screen_row_position=”middle” column_margin=”default” column_direction=”default” column_direction_tablet=”default” column_direction_phone=”default” scene_position=”center” text_color=”dark” text_align=”left” row_border_radius=”none” row_border_radius_applies=”bg” overlay_strength=”0.3″ gradient_direction=”left_to_right” shape_divider_position=”bottom” bg_image_animation=”none”][vc_column column_padding=”padding-2-percent” column_padding_tablet=”inherit” column_padding_phone=”inherit” column_padding_position=”top” column_element_spacing=”default” background_color_opacity=”1″ background_hover_color_opacity=”1″ column_shadow=”none” column_border_radius=”none” column_link_target=”_self” gradient_direction=”left_to_right” overlay_strength=”0.3″ width=”1/1″ tablet_width_inherit=”default” tablet_text_alignment=”default” phone_text_alignment=”default” bg_image_animation=”none” border_type=”simple” column_border_width=”none” column_border_style=”solid”][vc_column_text css_animation=”fadeIn”]El 4 de gener se celebra el Dia Mundial del Braille per tal de crear més consciència sobre la importància del braille com a mitjà de comunicació per a la plena realització dels drets humans per a les persones cegues i amb deficiència visual. \nSegons l’Organització Mundial de la Salut hi ha uns 36 milions de persones amb ceguesa al món\, i 216 milions pateixen discapacitat visual moderada o greu. Aquestes persones tenen més possibilitats de viure en la pobresa\, gaudir de pitjor salut i tenir més dificultats que d’altres per accedir a l’educació i l’ocupació.[/vc_column_text]   Més informació sobre el Dia Mundial del Braille\n [/vc_column][/vc_row]
URL:https://idis.conselldeivissa.es/agenda/dia-mundial-del-braille/
CATEGORIES:Dies Internacionals Inclusió
END:VEVENT
END:VCALENDAR