BEGIN:VCALENDAR
VERSION:2.0
PRODID:-//IDIS. Igualtat, Diversitat, Inclusió i Salut - ECPv5.5.0.2//NONSGML v1.0//EN
CALSCALE:GREGORIAN
METHOD:PUBLISH
X-WR-CALNAME:IDIS. Igualtat, Diversitat, Inclusió i Salut
X-ORIGINAL-URL:https://idis.conselldeivissa.es
X-WR-CALDESC:Events for IDIS. Igualtat, Diversitat, Inclusió i Salut
BEGIN:VTIMEZONE
TZID:Europe/Madrid
BEGIN:DAYLIGHT
TZOFFSETFROM:+0100
TZOFFSETTO:+0200
TZNAME:CEST
DTSTART:20230326T010000
END:DAYLIGHT
BEGIN:STANDARD
TZOFFSETFROM:+0200
TZOFFSETTO:+0100
TZNAME:CET
DTSTART:20231029T010000
END:STANDARD
END:VTIMEZONE
BEGIN:VEVENT
DTSTART;VALUE=DATE:20230304
DTEND;VALUE=DATE:20230305
DTSTAMP:20260420T165433
CREATED:20220708T080926Z
LAST-MODIFIED:20220905T115629Z
UID:5778-1677888000-1677974399@idis.conselldeivissa.es
SUMMARY:Dia Mundial contra l'Obesitat
DESCRIPTION:[vc_row type=”in_container” full_screen_row_position=”middle” column_margin=”default” column_direction=”default” column_direction_tablet=”default” column_direction_phone=”default” scene_position=”center” text_color=”dark” text_align=”left” row_border_radius=”none” row_border_radius_applies=”bg” overlay_strength=”0.3″ gradient_direction=”left_to_right” shape_divider_position=”bottom” bg_image_animation=”none”][vc_column column_padding=”padding-2-percent” column_padding_tablet=”inherit” column_padding_phone=”inherit” column_padding_position=”top” column_element_spacing=”default” background_color_opacity=”1″ background_hover_color_opacity=”1″ column_shadow=”none” column_border_radius=”none” column_link_target=”_self” gradient_direction=”left_to_right” overlay_strength=”0.3″ width=”1/1″ tablet_width_inherit=”default” tablet_text_alignment=”default” phone_text_alignment=”default” bg_image_animation=”none” border_type=”simple” column_border_width=”none” column_border_style=”solid”][vc_column_text css_animation=”fadeIn” css=”.vc_custom_1662378913438{padding-bottom: 20px !important;}”]Cada dia 4 de març se celebra el Dia Mundial contra l’Obesitat. Aquesta data busca conscienciar les persones sobre el terrible dany que comporta per a l’organisme una dieta alta en greixos i sucres\, dieta que\, de fet\, és una de les més populars i propagades per tot el món. El Dia Mundial de l’Obesitat està convocat per la Federació Mundial de l’Obesitat i els seus membres mundials. \nSegons dades de la mateixa Organització Mundial de la Salut (OMS)\, l’obesitat ha aconseguit proporcions epidèmiques mundials. És més\, s’estima que des de 1975 aquesta malaltia s’ha triplicat\, i ha aconseguit que el 2016\, 1.900 milions d’adults la patissin així com 340 milions de nens i adolescents.[/vc_column_text]   Més informació sobre el Dia Mundial contra l’Obesitat\n [/vc_column][/vc_row]
URL:https://idis.conselldeivissa.es/agenda/dia-mundial-de-lobesitat/
CATEGORIES:Dies Internacionals Salut
END:VEVENT
END:VCALENDAR