BEGIN:VCALENDAR
VERSION:2.0
PRODID:-//IDIS. Igualtat, Diversitat, Inclusió i Salut - ECPv5.5.0.2//NONSGML v1.0//EN
CALSCALE:GREGORIAN
METHOD:PUBLISH
X-WR-CALNAME:IDIS. Igualtat, Diversitat, Inclusió i Salut
X-ORIGINAL-URL:https://idis.conselldeivissa.es
X-WR-CALDESC:Events for IDIS. Igualtat, Diversitat, Inclusió i Salut
BEGIN:VTIMEZONE
TZID:Europe/Madrid
BEGIN:DAYLIGHT
TZOFFSETFROM:+0100
TZOFFSETTO:+0200
TZNAME:CEST
DTSTART:20230326T010000
END:DAYLIGHT
BEGIN:STANDARD
TZOFFSETFROM:+0200
TZOFFSETTO:+0100
TZNAME:CET
DTSTART:20231029T010000
END:STANDARD
END:VTIMEZONE
BEGIN:VEVENT
DTSTART;VALUE=DATE:20230318
DTEND;VALUE=DATE:20230319
DTSTAMP:20260420T212613
CREATED:20220713T062359Z
LAST-MODIFIED:20220907T085657Z
UID:5990-1679097600-1679183999@idis.conselldeivissa.es
SUMMARY:Dia Mundial de la Síndrome d'Edwards o Trisomia 18
DESCRIPTION:[vc_row type=”in_container” full_screen_row_position=”middle” column_margin=”default” column_direction=”default” column_direction_tablet=”default” column_direction_phone=”default” scene_position=”center” text_color=”dark” text_align=”left” row_border_radius=”none” row_border_radius_applies=”bg” overlay_strength=”0.3″ gradient_direction=”left_to_right” shape_divider_position=”bottom” bg_image_animation=”none”][vc_column column_padding=”padding-2-percent” column_padding_tablet=”inherit” column_padding_phone=”inherit” column_padding_position=”top” column_element_spacing=”default” background_color_opacity=”1″ background_hover_color_opacity=”1″ column_shadow=”none” column_border_radius=”none” column_link_target=”_self” gradient_direction=”left_to_right” overlay_strength=”0.3″ width=”1/1″ tablet_width_inherit=”default” tablet_text_alignment=”default” phone_text_alignment=”default” bg_image_animation=”none” border_type=”simple” column_border_width=”none” column_border_style=”solid”][vc_column_text css_animation=”fadeIn” css=”.vc_custom_1662539995134{padding-bottom: 20px !important;}”]El Dia Mundial de la Síndrome d’Edwards o Trisomia 18 se celebra el 18 de març de cada any amb l’objectiu de donar a conèixer un patiment genètic que es produeix per una alteració dels cromosomes i on és important el diagnòstic oportú per millorar la qualitat de vida de les persones que el pateixen. \nEs tracta d’un desordre genètic en què els nens en néixer presenten un cromosoma extra al parell 18. Això porta com a conseqüències algunes alteracions físiques. \nEls éssers humans en condicions normals tenen 46 cromosomes\, que reben tant de la mare com del pare\, però quan la càrrega genètica és superior a aquesta\, es presenta aquesta condició. \n[/vc_column_text]   Més informació sobre el Dia Mundial de la Síndrome d’Edwards o Trisomia 18 [/vc_column][/vc_row]
URL:https://idis.conselldeivissa.es/agenda/dia-mundial-de-la-sindrome-dedwards-o-trisomia-18/
CATEGORIES:Dies Internacionals Inclusió
END:VEVENT
END:VCALENDAR