BEGIN:VCALENDAR
VERSION:2.0
PRODID:-//IDIS. Igualtat, Diversitat, Inclusió i Salut - ECPv5.5.0.2//NONSGML v1.0//EN
CALSCALE:GREGORIAN
METHOD:PUBLISH
X-WR-CALNAME:IDIS. Igualtat, Diversitat, Inclusió i Salut
X-ORIGINAL-URL:https://idis.conselldeivissa.es
X-WR-CALDESC:Events for IDIS. Igualtat, Diversitat, Inclusió i Salut
BEGIN:VTIMEZONE
TZID:Europe/Madrid
BEGIN:DAYLIGHT
TZOFFSETFROM:+0100
TZOFFSETTO:+0200
TZNAME:CEST
DTSTART:20230326T010000
END:DAYLIGHT
BEGIN:STANDARD
TZOFFSETFROM:+0200
TZOFFSETTO:+0100
TZNAME:CET
DTSTART:20231029T010000
END:STANDARD
END:VTIMEZONE
BEGIN:VEVENT
DTSTART;VALUE=DATE:20230126
DTEND;VALUE=DATE:20230127
DTSTAMP:20260419T174014
CREATED:20220713T062400Z
LAST-MODIFIED:20220906T083118Z
UID:5915-1674691200-1674777599@idis.conselldeivissa.es
SUMMARY:Dia Mundial de la Malaltia de Kawasaki
DESCRIPTION:[vc_row type=”in_container” full_screen_row_position=”middle” column_margin=”default” column_direction=”default” column_direction_tablet=”default” column_direction_phone=”default” scene_position=”center” text_color=”dark” text_align=”left” row_border_radius=”none” row_border_radius_applies=”bg” overlay_strength=”0.3″ gradient_direction=”left_to_right” shape_divider_position=”bottom” bg_image_animation=”none”][vc_column column_padding=”padding-2-percent” column_padding_tablet=”inherit” column_padding_phone=”inherit” column_padding_position=”top” column_element_spacing=”default” background_color_opacity=”1″ background_hover_color_opacity=”1″ column_shadow=”none” column_border_radius=”none” column_link_target=”_self” gradient_direction=”left_to_right” overlay_strength=”0.3″ width=”1/1″ tablet_width_inherit=”default” tablet_text_alignment=”default” phone_text_alignment=”default” bg_image_animation=”none” border_type=”simple” column_border_width=”none” column_border_style=”solid”][vc_column_text css_animation=”fadeIn” css=”.vc_custom_1662452784764{padding-bottom: 20px !important;}”]El 26 de gener és el Dia Mundial de la Malaltia de Kawasaki\, catalogada com a rara i que afecta nens petits\, menors de 5 anys. L’objectiu d’aquesta data és donar visibilitat a la malaltia i donar suport als pacients i les famílies que han de lluitar amb els símptomes d’aquesta patologia. \nAquesta malaltia cursa amb inflamació dels vasos sanguinis de mitjana i petita grandària. Això pot afectar qualsevol òrgan o sistema del cos. La complicació més temuda és la inflamació de les artèries del cor\, que poden ocasionar problemes cardíacs greus. \nLa malaltia de Kawasaki és de molt difícil diagnòstic ja que no hi ha una prova específica per aïllar la patologia. A més\, els símptomes són comuns a moltes altres malalties comunes de la infància\, per la qual cosa el metge serà l’encarregat de diagnosticar-la basant-se en la seua experiència i coneixement\, en anar descartant altres patologies que puguin coincidir amb els símptomes.[/vc_column_text]   Més informació sobre el Dia Mundial de la Malaltia de Kawasaki\n [/vc_column][/vc_row]
URL:https://idis.conselldeivissa.es/agenda/dia-mundial-de-la-malaltia-de-kawasaki/
CATEGORIES:Dies Internacionals Inclusió
END:VEVENT
END:VCALENDAR