BEGIN:VCALENDAR
VERSION:2.0
PRODID:-//IDIS. Igualtat, Diversitat, Inclusió i Salut - ECPv5.5.0.2//NONSGML v1.0//EN
CALSCALE:GREGORIAN
METHOD:PUBLISH
X-WR-CALNAME:IDIS. Igualtat, Diversitat, Inclusió i Salut
X-ORIGINAL-URL:https://idis.conselldeivissa.es
X-WR-CALDESC:Events for IDIS. Igualtat, Diversitat, Inclusió i Salut
BEGIN:VTIMEZONE
TZID:Europe/Madrid
BEGIN:DAYLIGHT
TZOFFSETFROM:+0100
TZOFFSETTO:+0200
TZNAME:CEST
DTSTART:20220327T010000
END:DAYLIGHT
BEGIN:STANDARD
TZOFFSETFROM:+0200
TZOFFSETTO:+0100
TZNAME:CET
DTSTART:20221030T010000
END:STANDARD
END:VTIMEZONE
BEGIN:VEVENT
DTSTART;VALUE=DATE:20221019
DTEND;VALUE=DATE:20221020
DTSTAMP:20260420T155023
CREATED:20220509T131948Z
LAST-MODIFIED:20220719T085135Z
UID:4490-1666137600-1666223999@idis.conselldeivissa.es
SUMMARY:Dia Internacional contra el Càncer de Mama
DESCRIPTION:[vc_row type=”in_container” full_screen_row_position=”middle” column_margin=”default” column_direction=”default” column_direction_tablet=”default” column_direction_phone=”default” scene_position=”center” text_color=”dark” text_align=”left” row_border_radius=”none” row_border_radius_applies=”bg” overlay_strength=”0.3″ gradient_direction=”left_to_right” shape_divider_position=”bottom” bg_image_animation=”none”][vc_column column_padding=”padding-2-percent” column_padding_tablet=”inherit” column_padding_phone=”inherit” column_padding_position=”top” column_element_spacing=”default” background_color_opacity=”1″ background_hover_color_opacity=”1″ column_shadow=”none” column_border_radius=”none” column_link_target=”_self” gradient_direction=”left_to_right” overlay_strength=”0.3″ width=”1/1″ tablet_width_inherit=”default” tablet_text_alignment=”default” phone_text_alignment=”default” bg_image_animation=”none” border_type=”simple” column_border_width=”none” column_border_style=”solid”][vc_column_text css=”.vc_custom_1658222423178{padding-bottom: 20px !important;}”]El 19 d’octubre se celebra el Dia Internacional de la Lluita contra el Càncer de Mama\, per sensibilitzar i conscienciar les dones de tot el món sobre la importància de fer-se un examen de mames regularment\, amb la finalitat de detectar qualsevol signe o anomalia. \nAquesta efemèride ha estat impulsada per l’Organització Mundial de la Salut (OMS)\, per promoure el diagnòstic precoç del càncer de mama\, així com incrementar l’accés de la població femenina als controls i tractaments oportuns d’aquesta malaltia. \n[/vc_column_text]   Més informació sobre el Dia Internacional contra el Càncer de Mama [/vc_column][/vc_row]
URL:https://idis.conselldeivissa.es/agenda/dia-internacional-del-cancer-de-mama/
CATEGORIES:Dies Internacionals Igualtat,Dies Internacionals Salut
END:VEVENT
END:VCALENDAR