BEGIN:VCALENDAR
VERSION:2.0
PRODID:-//IDIS. Igualtat, Diversitat, Inclusió i Salut - ECPv5.5.0.2//NONSGML v1.0//EN
CALSCALE:GREGORIAN
METHOD:PUBLISH
X-WR-CALNAME:IDIS. Igualtat, Diversitat, Inclusió i Salut
X-ORIGINAL-URL:https://idis.conselldeivissa.es
X-WR-CALDESC:Events for IDIS. Igualtat, Diversitat, Inclusió i Salut
BEGIN:VTIMEZONE
TZID:Europe/Madrid
BEGIN:DAYLIGHT
TZOFFSETFROM:+0100
TZOFFSETTO:+0200
TZNAME:CEST
DTSTART:20230326T010000
END:DAYLIGHT
BEGIN:STANDARD
TZOFFSETFROM:+0200
TZOFFSETTO:+0100
TZNAME:CET
DTSTART:20231029T010000
END:STANDARD
END:VTIMEZONE
BEGIN:VEVENT
DTSTART;VALUE=DATE:20230124
DTEND;VALUE=DATE:20230125
DTSTAMP:20260419T190922
CREATED:20220708T080926Z
LAST-MODIFIED:20220905T100551Z
UID:5743-1674518400-1674604799@idis.conselldeivissa.es
SUMMARY:Dia Internacional de l'Educació
DESCRIPTION:[vc_row type=”in_container” full_screen_row_position=”middle” column_margin=”default” column_direction=”default” column_direction_tablet=”default” column_direction_phone=”default” scene_position=”center” text_color=”dark” text_align=”left” row_border_radius=”none” row_border_radius_applies=”bg” overlay_strength=”0.3″ gradient_direction=”left_to_right” shape_divider_position=”bottom” bg_image_animation=”none”][vc_column column_padding=”padding-2-percent” column_padding_tablet=”inherit” column_padding_phone=”inherit” column_padding_position=”top” column_element_spacing=”default” background_color_opacity=”1″ background_hover_color_opacity=”1″ column_shadow=”none” column_border_radius=”none” column_link_target=”_self” gradient_direction=”left_to_right” overlay_strength=”0.3″ width=”1/1″ tablet_width_inherit=”default” tablet_text_alignment=”default” phone_text_alignment=”default” bg_image_animation=”none” border_type=”simple” column_border_width=”none” column_border_style=”solid”][vc_column_text css_animation=”fadeIn” css=”.vc_custom_1662370430566{padding-bottom: 20px !important;}”]El 24 de gener se celebra el Dia Internacional de l’Educació\, data proclamada per l’Organització de les Nacions Unides (ONU) amb l’objectiu de conscienciar tot el planeta de la importància de l’educació per aconseguir els objectius de desenvolupament sostenible. Concretament\, l’Objectiu número 4 estableix una educació de qualitat. \nDe fet\, l’educació és la base per a una societat justa\, igualitària i autosuficient. L’educació augmenta la productivitat de les persones i com a conseqüència\, el potencial de creixement econòmic. Fa que les persones treballin en allò que els agradi i en allò que són bons\, i influeix directament en la felicitat de les persones. Perquè una persona realitzada és una persona feliç. \nPer això\, l’educació ajuda a erradicar la pobresa i la fam\, contribueix a millorar la salut\, promou la igualtat de gènere i pot reduir la desigualtat. En definitiva\, fa societats millors.[/vc_column_text]   Més informació sobre el Dia Internacional de l’Educació [/vc_column][/vc_row]
URL:https://idis.conselldeivissa.es/agenda/dia-internacional-de-leducacio/
CATEGORIES:Dies Internacionals Salut
END:VEVENT
END:VCALENDAR