BEGIN:VCALENDAR
VERSION:2.0
PRODID:-//IDIS. Igualtat, Diversitat, Inclusió i Salut - ECPv5.5.0.2//NONSGML v1.0//EN
CALSCALE:GREGORIAN
METHOD:PUBLISH
X-WR-CALNAME:IDIS. Igualtat, Diversitat, Inclusió i Salut
X-ORIGINAL-URL:https://idis.conselldeivissa.es
X-WR-CALDESC:Events for IDIS. Igualtat, Diversitat, Inclusió i Salut
BEGIN:VTIMEZONE
TZID:Europe/Madrid
BEGIN:DAYLIGHT
TZOFFSETFROM:+0100
TZOFFSETTO:+0200
TZNAME:CEST
DTSTART:20230326T010000
END:DAYLIGHT
BEGIN:STANDARD
TZOFFSETFROM:+0200
TZOFFSETTO:+0100
TZNAME:CET
DTSTART:20231029T010000
END:STANDARD
END:VTIMEZONE
BEGIN:VEVENT
DTSTART;VALUE=DATE:20230330
DTEND;VALUE=DATE:20230331
DTSTAMP:20260421T003125
CREATED:20220512T062214Z
LAST-MODIFIED:20220719T092307Z
UID:4583-1680134400-1680220799@idis.conselldeivissa.es
SUMMARY:Dia Internacional de les Treballadores de la Llar
DESCRIPTION:[vc_row type=”in_container” full_screen_row_position=”middle” column_margin=”default” column_direction=”default” column_direction_tablet=”default” column_direction_phone=”default” scene_position=”center” text_color=”dark” text_align=”left” row_border_radius=”none” row_border_radius_applies=”bg” overlay_strength=”0.3″ gradient_direction=”left_to_right” shape_divider_position=”bottom” bg_image_animation=”none”][vc_column column_padding=”padding-2-percent” column_padding_tablet=”inherit” column_padding_phone=”inherit” column_padding_position=”top” column_element_spacing=”default” background_color_opacity=”1″ background_hover_color_opacity=”1″ column_shadow=”none” column_border_radius=”none” column_link_target=”_self” gradient_direction=”left_to_right” overlay_strength=”0.3″ width=”1/1″ tablet_width_inherit=”default” tablet_text_alignment=”default” phone_text_alignment=”default” bg_image_animation=”none” border_type=”simple” column_border_width=”none” column_border_style=”solid”][vc_column_text css=”.vc_custom_1658226000377{padding-bottom: 20px !important;}”]El dia 30 de març se celebra el Dia Internacional de les Treballadores de la Llar amb el propòsit de col·locar a l’agenda política les situacions de discriminació sistemàtica\, de precarietat\, infravaloració i invisibilitat patides en aquest sector. \nEs tracta d’una data commemorativa i de reivindicació de drets laborals del sector\, la majoria composta per dones. El treball domèstic és una font important de treball remunerat per a les dones\, i les treballadores de la llar representen una de les principals forces de treball femenina assalariada a tot el món. \nTanmateix\, són sovent excloses de la protecció social i laboral en enquadrar-se l’activitat en un mercat de treball informal\, afavorint la seua infravaloració i la seua alta feminització. \nL’equiparació professional amb la resta de persones treballadores per compte aliè i respecte cap a un sector en què\, sovent\, es vulneren drets\, es treballa en condicions de precarietat i d’indefensió són reivindicacions necessàries per avançar en l’assoliment de la igualtat a l’ocupació de les dones. \n[/vc_column_text]   \nMés informació sobre el Dia Internacional de les Treballadores de la Llar\n\n [/vc_column][/vc_row]
URL:https://idis.conselldeivissa.es/agenda/dia-internacional-de-las-trabajadoras-del-hogar/
CATEGORIES:Dies Internacionals Igualtat
END:VEVENT
END:VCALENDAR