BEGIN:VCALENDAR
VERSION:2.0
PRODID:-//IDIS. Igualtat, Diversitat, Inclusió i Salut - ECPv5.5.0.2//NONSGML v1.0//EN
CALSCALE:GREGORIAN
METHOD:PUBLISH
X-WR-CALNAME:IDIS. Igualtat, Diversitat, Inclusió i Salut
X-ORIGINAL-URL:https://idis.conselldeivissa.es
X-WR-CALDESC:Events for IDIS. Igualtat, Diversitat, Inclusió i Salut
BEGIN:VTIMEZONE
TZID:Europe/Madrid
BEGIN:DAYLIGHT
TZOFFSETFROM:+0100
TZOFFSETTO:+0200
TZNAME:CEST
DTSTART:20220327T010000
END:DAYLIGHT
BEGIN:STANDARD
TZOFFSETFROM:+0200
TZOFFSETTO:+0100
TZNAME:CET
DTSTART:20221030T010000
END:STANDARD
END:VTIMEZONE
BEGIN:VEVENT
DTSTART;VALUE=DATE:20221130
DTEND;VALUE=DATE:20221201
DTSTAMP:20260420T035447
CREATED:20220906T074806Z
LAST-MODIFIED:20220906T074806Z
UID:5884-1669766400-1669852799@idis.conselldeivissa.es
SUMMARY:Dia Internacional de la lluita contra els Trastorns de la Conducta Alimentària (TCA)
DESCRIPTION:[vc_row type=”in_container” full_screen_row_position=”middle” column_margin=”default” column_direction=”default” column_direction_tablet=”default” column_direction_phone=”default” scene_position=”center” text_color=”dark” text_align=”left” row_border_radius=”none” row_border_radius_applies=”bg” overlay_strength=”0.3″ gradient_direction=”left_to_right” shape_divider_position=”bottom” bg_image_animation=”none”][vc_column column_padding=”padding-2-percent” column_padding_tablet=”inherit” column_padding_phone=”inherit” column_padding_position=”top” column_element_spacing=”default” background_color_opacity=”1″ background_hover_color_opacity=”1″ column_shadow=”none” column_border_radius=”none” column_link_target=”_self” gradient_direction=”left_to_right” overlay_strength=”0.3″ width=”1/1″ tablet_width_inherit=”default” tablet_text_alignment=”default” phone_text_alignment=”default” bg_image_animation=”none” border_type=”simple” column_border_width=”none” column_border_style=”solid”][vc_column_text css_animation=”fadeIn” css=”.vc_custom_1662450419764{padding-bottom: 20px !important;}”]El 30 de novembre és el Dia de la Lluita contra els Trastorns de la Conducta Alimentària (TCA). Aquest dia va sorgir a finals de l’any 2012 per iniciativa d’unes administradores d’una pàgina de Facebook que varen buscar una via per donar-se suport a si mateixes\, per donar suport als altres i per recordar la lluita de les persones que s’enfronten a aquests trastorns. \nVaren proposar tenir com a símbol un llaç o una cinta o polsera de color blau clar a la mà esquerra per representar la fe\, la solidaritat i l’esperança.[/vc_column_text]   Més informació sobre el Dia Internacional de la lluita contra els Trastorns de la Conducta Alimentària (TCA)\n [/vc_column][/vc_row]
URL:https://idis.conselldeivissa.es/agenda/dia-internacional-de-la-lluita-contra-els-trastorns-de-la-conducta-alimentaria-tca/
CATEGORIES:Dies Internacionals Salut
END:VEVENT
END:VCALENDAR