BEGIN:VCALENDAR
VERSION:2.0
PRODID:-//IDIS. Igualtat, Diversitat, Inclusió i Salut - ECPv5.5.0.2//NONSGML v1.0//EN
CALSCALE:GREGORIAN
METHOD:PUBLISH
X-WR-CALNAME:IDIS. Igualtat, Diversitat, Inclusió i Salut
X-ORIGINAL-URL:https://idis.conselldeivissa.es
X-WR-CALDESC:Events for IDIS. Igualtat, Diversitat, Inclusió i Salut
BEGIN:VTIMEZONE
TZID:Europe/Madrid
BEGIN:DAYLIGHT
TZOFFSETFROM:+0100
TZOFFSETTO:+0200
TZNAME:CEST
DTSTART:20230326T010000
END:DAYLIGHT
BEGIN:STANDARD
TZOFFSETFROM:+0200
TZOFFSETTO:+0100
TZNAME:CET
DTSTART:20231029T010000
END:STANDARD
END:VTIMEZONE
BEGIN:VEVENT
DTSTART;VALUE=DATE:20230214
DTEND;VALUE=DATE:20230215
DTSTAMP:20260420T042235
CREATED:20220905T102749Z
LAST-MODIFIED:20220905T102929Z
UID:5756-1676332800-1676419199@idis.conselldeivissa.es
SUMMARY:Dia Internacional de la Internet Segura (Safer Internet Day)
DESCRIPTION:[vc_row type=”in_container” full_screen_row_position=”middle” column_margin=”default” column_direction=”default” column_direction_tablet=”default” column_direction_phone=”default” scene_position=”center” text_color=”dark” text_align=”left” row_border_radius=”none” row_border_radius_applies=”bg” overlay_strength=”0.3″ gradient_direction=”left_to_right” shape_divider_position=”bottom” bg_image_animation=”none”][vc_column column_padding=”padding-2-percent” column_padding_tablet=”inherit” column_padding_phone=”inherit” column_padding_position=”top” column_element_spacing=”default” background_color_opacity=”1″ background_hover_color_opacity=”1″ column_shadow=”none” column_border_radius=”none” column_link_target=”_self” gradient_direction=”left_to_right” overlay_strength=”0.3″ width=”1/1″ tablet_width_inherit=”default” tablet_text_alignment=”default” phone_text_alignment=”default” bg_image_animation=”none” border_type=”simple” column_border_width=”none” column_border_style=”solid”][vc_column_text css_animation=”fadeIn” css=”.vc_custom_1662373767745{padding-bottom: 20px !important;}”]El Dia Internacional de la Internet Segura (Safer Internet Day) és un esdeveniment de gran envergadura\, que va ser proposat per la xarxa INSAFE\, amb el suport de la Unió Europea. Se celebra el segon dia de la segona setmana del segon mes de l’any\, o el que és el mateix\, el segon dimarts de febrer. \nÉs a partir de l’any 2004\, quan s’instaurà aquesta iniciativa\, que ha mobilitzat milions de persones a tot el món per promoure i debatre sobre el correcte ús d’Internet\, sobretot per als infants i joves\, ja que és la població més vulnerable.[/vc_column_text]   \nMés informació sobre el Dia Internacional de la Internet Segura (Safer Internet Day)\n [/vc_column][/vc_row]
URL:https://idis.conselldeivissa.es/agenda/dia-internacional-de-la-internet-segura-safer-internet-day/
CATEGORIES:Dies Internacionals Salut
END:VEVENT
END:VCALENDAR