BEGIN:VCALENDAR
VERSION:2.0
PRODID:-//IDIS. Igualtat, Diversitat, Inclusió i Salut - ECPv5.5.0.2//NONSGML v1.0//EN
CALSCALE:GREGORIAN
METHOD:PUBLISH
X-WR-CALNAME:IDIS. Igualtat, Diversitat, Inclusió i Salut
X-ORIGINAL-URL:https://idis.conselldeivissa.es
X-WR-CALDESC:Events for IDIS. Igualtat, Diversitat, Inclusió i Salut
BEGIN:VTIMEZONE
TZID:Europe/Madrid
BEGIN:DAYLIGHT
TZOFFSETFROM:+0100
TZOFFSETTO:+0200
TZNAME:CEST
DTSTART:20220327T010000
END:DAYLIGHT
BEGIN:STANDARD
TZOFFSETFROM:+0200
TZOFFSETTO:+0100
TZNAME:CET
DTSTART:20221030T010000
END:STANDARD
END:VTIMEZONE
BEGIN:VEVENT
DTSTART;VALUE=DATE:20221008
DTEND;VALUE=DATE:20221009
DTSTAMP:20260420T202444
CREATED:20220713T062443Z
LAST-MODIFIED:20220908T095956Z
UID:6115-1665187200-1665273599@idis.conselldeivissa.es
SUMMARY:Dia Internacional de la Dislèxia
DESCRIPTION:[vc_row type=”in_container” full_screen_row_position=”middle” column_margin=”default” column_direction=”default” column_direction_tablet=”default” column_direction_phone=”default” scene_position=”center” text_color=”dark” text_align=”left” row_border_radius=”none” row_border_radius_applies=”bg” overlay_strength=”0.3″ gradient_direction=”left_to_right” shape_divider_position=”bottom” bg_image_animation=”none”][vc_column column_padding=”padding-2-percent” column_padding_tablet=”inherit” column_padding_phone=”inherit” column_padding_position=”top” column_element_spacing=”default” background_color_opacity=”1″ background_hover_color_opacity=”1″ column_shadow=”none” column_border_radius=”none” column_link_target=”_self” gradient_direction=”left_to_right” overlay_strength=”0.3″ width=”1/1″ tablet_width_inherit=”default” tablet_text_alignment=”default” phone_text_alignment=”default” bg_image_animation=”none” border_type=”simple” column_border_width=”none” column_border_style=”solid”][vc_column_text css_animation=”fadeIn” css=”.vc_custom_1662631135916{padding-bottom: 20px !important;}”]Un dels trastorns d’aprenentatge més comuns que afecta els nens en edat escolar és la dislèxia. És per això que el 8 d’octubre se celebra el Dia Internacional de la Dislèxia\, per conscienciar les persones sobre aquest trastorn que afecta el 10 % de la població mundial\, segons l’Organització Mundial de la Salut (OMS). \nD’acord amb xifres estimades\, els nens dislèxics (amb edats compreses entre els 7 i 9 anys) representen entre el 3 i el 6 % de la població infantil\, presentant aquesta condició més els nens que les nenes. \nEl contingut curricular del sistema educatiu actual està basat en l’aprenentatge\, a través de la lectura\, l’escriptura i la memorització\, generant condicions de desigualtat marcades en els nens amb dislèxia\, a causa de la seua dificultat per a la comprensió i l’aprenentatge.[/vc_column_text]   Més informació sobre el Dia Internacional de la Dislèxia\n [/vc_column][/vc_row]
URL:https://idis.conselldeivissa.es/agenda/dia-internacional-de-la-dislexia/
CATEGORIES:Dies Internacionals Inclusió
END:VEVENT
END:VCALENDAR