BEGIN:VCALENDAR
VERSION:2.0
PRODID:-//IDIS. Igualtat, Diversitat, Inclusió i Salut - ECPv5.5.0.2//NONSGML v1.0//EN
CALSCALE:GREGORIAN
METHOD:PUBLISH
X-WR-CALNAME:IDIS. Igualtat, Diversitat, Inclusió i Salut
X-ORIGINAL-URL:https://idis.conselldeivissa.es
X-WR-CALDESC:Events for IDIS. Igualtat, Diversitat, Inclusió i Salut
BEGIN:VTIMEZONE
TZID:Europe/Madrid
BEGIN:DAYLIGHT
TZOFFSETFROM:+0100
TZOFFSETTO:+0200
TZNAME:CEST
DTSTART:20220327T010000
END:DAYLIGHT
BEGIN:STANDARD
TZOFFSETFROM:+0200
TZOFFSETTO:+0100
TZNAME:CET
DTSTART:20221030T010000
END:STANDARD
END:VTIMEZONE
BEGIN:VEVENT
DTSTART;VALUE=DATE:20221103
DTEND;VALUE=DATE:20221104
DTSTAMP:20260420T100045
CREATED:20220906T065324Z
LAST-MODIFIED:20220906T065324Z
UID:5868-1667433600-1667519999@idis.conselldeivissa.es
SUMMARY:Dia Internacional contra la Violència i l'Assetjament Escolar
DESCRIPTION:[vc_row type=”in_container” full_screen_row_position=”middle” column_margin=”default” column_direction=”default” column_direction_tablet=”default” column_direction_phone=”default” scene_position=”center” text_color=”dark” text_align=”left” row_border_radius=”none” row_border_radius_applies=”bg” overlay_strength=”0.3″ gradient_direction=”left_to_right” shape_divider_position=”bottom” bg_image_animation=”none”][vc_column column_padding=”padding-2-percent” column_padding_tablet=”inherit” column_padding_phone=”inherit” column_padding_position=”top” column_element_spacing=”default” background_color_opacity=”1″ background_hover_color_opacity=”1″ column_shadow=”none” column_border_radius=”none” column_link_target=”_self” gradient_direction=”left_to_right” overlay_strength=”0.3″ width=”1/1″ tablet_width_inherit=”default” tablet_text_alignment=”default” phone_text_alignment=”default” bg_image_animation=”none” border_type=”simple” column_border_width=”none” column_border_style=”solid”][vc_column_text css_animation=”fadeIn” css=”.vc_custom_1662446997514{padding-bottom: 20px !important;}”]El primer dijous de novembre de cada any se celebra el Dia Internacional contra la Violència i l’Assetjament Escolar\, inclòs el ciberassetjament. Amb això\, es busca acabar una vegada per totes amb un tipus de violència que afecta la població infantil a l’àmbit mundial i que provoca terribles seqüeles psicològiques. \nL’assetjament escolar o també conegut com a bullying és una fustigació permanent d’una o més persones cap a un estudiant\, on en general es produeixen agressions verbals i físiques i sense haver-hi una causa aparent perquè passin semblants fets. \nLamentablement\, el maltractament escolar ha augmentat els darrers anys\, i molts nens i joves són víctimes d’aquestes situacions\, que si que no són detectades a temps\, poden tenir conseqüències molt lamentables\, que fins i tot poden posar en risc les seues vides.[/vc_column_text]   Més informació sobre el Dia Internacional contra la Violència i l’Assetjament Escolar\n [/vc_column][/vc_row]
URL:https://idis.conselldeivissa.es/agenda/dia-internacional-contra-la-violencia-i-lassetjament-escolar/
CATEGORIES:Dies Internacionals Salut
END:VEVENT
END:VCALENDAR